BEGIN:VCALENDAR
VERSION:2.0
PRODID:-//Market Drayton - Eat, Drink, Shop &amp; Explore - ECPv6.15.20//NONSGML v1.0//EN
CALSCALE:GREGORIAN
METHOD:PUBLISH
X-ORIGINAL-URL:https://www.marketdrayton.org.uk
X-WR-CALDESC:Events for Market Drayton - Eat, Drink, Shop &amp; Explore
REFRESH-INTERVAL;VALUE=DURATION:PT1H
X-Robots-Tag:noindex
X-PUBLISHED-TTL:PT1H
BEGIN:VTIMEZONE
TZID:Europe/Paris
BEGIN:DAYLIGHT
TZOFFSETFROM:+0100
TZOFFSETTO:+0200
TZNAME:CEST
DTSTART:20200329T010000
END:DAYLIGHT
BEGIN:STANDARD
TZOFFSETFROM:+0200
TZOFFSETTO:+0100
TZNAME:CET
DTSTART:20201025T010000
END:STANDARD
BEGIN:DAYLIGHT
TZOFFSETFROM:+0100
TZOFFSETTO:+0200
TZNAME:CEST
DTSTART:20210328T010000
END:DAYLIGHT
BEGIN:STANDARD
TZOFFSETFROM:+0200
TZOFFSETTO:+0100
TZNAME:CET
DTSTART:20211031T010000
END:STANDARD
BEGIN:DAYLIGHT
TZOFFSETFROM:+0100
TZOFFSETTO:+0200
TZNAME:CEST
DTSTART:20220327T010000
END:DAYLIGHT
BEGIN:STANDARD
TZOFFSETFROM:+0200
TZOFFSETTO:+0100
TZNAME:CET
DTSTART:20221030T010000
END:STANDARD
END:VTIMEZONE
BEGIN:VEVENT
DTSTART;TZID=Europe/Paris:20210601T100000
DTEND;TZID=Europe/Paris:20210603T150000
DTSTAMP:20260419T170726
CREATED:20210601T135600Z
LAST-MODIFIED:20210601T135736Z
UID:824-1622541600-1622732400@www.marketdrayton.org.uk
SUMMARY:June 'Bubble Club' - Build a Bug House!
DESCRIPTION:Join us in your own private bubble to build your own bug house\, guided by your own session leader Mike or Wendy. Learn woodworking skills as you turn reclaimed wood into a brilliant home for our native bugs. You can take your creation home and pop in your garden helping to care for our wonderful bugs – many which are sadly in decline. \nThe cost is £25.00 for the 1 hour session including all the materials for up to 6 people / 2 households to make one bug house per child. \nSuitable for children age 5+ with adult support. \nSessions are available at the following start times on Tuesday 1st June\, Wednesday 2nd June and Thursday 3rd June: Hourly slots between 10am and 3pm.
URL:https://www.marketdrayton.org.uk/event/june-bubble-club-build-a-bug-house/
LOCATION:Fordhall Organic Farm\, Tern Hill Road\, Market Drayton\, Shropshire\, TF9 3PS
CATEGORIES:Conservation
ATTACH;FMTTYPE=image/jpeg:https://www.marketdrayton.org.uk/wp-content/uploads/2021/06/bub-club-bug-house.jpg
END:VEVENT
END:VCALENDAR