BEGIN:VCALENDAR
VERSION:2.0
PRODID:-//Market Drayton - Eat, Drink, Shop &amp; Explore - ECPv6.15.20//NONSGML v1.0//EN
CALSCALE:GREGORIAN
METHOD:PUBLISH
X-ORIGINAL-URL:https://www.marketdrayton.org.uk
X-WR-CALDESC:Events for Market Drayton - Eat, Drink, Shop &amp; Explore
REFRESH-INTERVAL;VALUE=DURATION:PT1H
X-Robots-Tag:noindex
X-PUBLISHED-TTL:PT1H
BEGIN:VTIMEZONE
TZID:Europe/Paris
BEGIN:DAYLIGHT
TZOFFSETFROM:+0100
TZOFFSETTO:+0200
TZNAME:CEST
DTSTART:20200329T010000
END:DAYLIGHT
BEGIN:STANDARD
TZOFFSETFROM:+0200
TZOFFSETTO:+0100
TZNAME:CET
DTSTART:20201025T010000
END:STANDARD
BEGIN:DAYLIGHT
TZOFFSETFROM:+0100
TZOFFSETTO:+0200
TZNAME:CEST
DTSTART:20210328T010000
END:DAYLIGHT
BEGIN:STANDARD
TZOFFSETFROM:+0200
TZOFFSETTO:+0100
TZNAME:CET
DTSTART:20211031T010000
END:STANDARD
BEGIN:DAYLIGHT
TZOFFSETFROM:+0100
TZOFFSETTO:+0200
TZNAME:CEST
DTSTART:20220327T010000
END:DAYLIGHT
BEGIN:STANDARD
TZOFFSETFROM:+0200
TZOFFSETTO:+0100
TZNAME:CET
DTSTART:20221030T010000
END:STANDARD
BEGIN:DAYLIGHT
TZOFFSETFROM:+0100
TZOFFSETTO:+0200
TZNAME:CEST
DTSTART:20230326T010000
END:DAYLIGHT
BEGIN:STANDARD
TZOFFSETFROM:+0200
TZOFFSETTO:+0100
TZNAME:CET
DTSTART:20231029T010000
END:STANDARD
END:VTIMEZONE
BEGIN:VEVENT
DTSTART;TZID=Europe/Paris:20210925T160000
DTEND;TZID=Europe/Paris:20210925T180000
DTSTAMP:20260419T170823
CREATED:20210826T110026Z
LAST-MODIFIED:20210826T110026Z
UID:2000-1632585600-1632592800@www.marketdrayton.org.uk
SUMMARY:Big Joe Bone at the Red Lion Inn
DESCRIPTION:Don’t miss “Big Joe Bone” playing at the Red Lion Inn at Joules Brewery on Saturday 25th September. \nRelax with your favourite local ale and enjoy Joe’s “Blues-Grass” music…..a mix of Delta Blues\, Bluegrass\, Oldtime\, Gospel and Hillbilly music utilizing his raspy vocals\, hard driving harmonica rhythms\, sublime bottleneck slide guitar playing (on steel bodied resonator guitars) and lightning finger-picking skills on 5 string banjos…..all held together by a very heavy stomping boot! \nHUGE thanks to Joules Brewery for supporting and sponsoring this event!
URL:https://www.marketdrayton.org.uk/event/big-joe-bone-at-the-red-lion-inn/
LOCATION:The Red Lion Inn\, Great Hales Street\, Market Drayton\, Shropshire\, TF9 1JP
CATEGORIES:Live Music
ATTACH;FMTTYPE=image/jpeg:https://www.marketdrayton.org.uk/wp-content/uploads/2021/08/BJB.jpg
END:VEVENT
BEGIN:VEVENT
DTSTART;TZID=Europe/Paris:20210918T193000
DTEND;TZID=Europe/Paris:20210919T010000
DTSTAMP:20260419T170823
CREATED:20210826T112524Z
LAST-MODIFIED:20210826T112524Z
UID:2002-1631993400-1632013200@www.marketdrayton.org.uk
SUMMARY:Soul Saves Lives Market Drayton British Legion
DESCRIPTION:Soul Saves Lives Market Drayton\, 100% Charity and Vinyl Crew: Ray Casey\, Kevin Heywood\, Roger Dean + Plus Guests: Trevor Foxley\, David (Spook) Richards… \nWe Present:\nAn evening of Northern Soul at The Royal British Legion Club\, Market Drayton\, Shropshire\, TF9 1AF on Saturday 18th September 2021. \nAdmission £5 on the door. Back at the Market Drayton British Legion. \nFantastic venue with a great dancefloor\, bar and seating area. \nCome and enjoy a great atmosphere with friendly people\, all for a great cause. \nSOUL SAVES LIVES\nALL PROCEEDS WILL BE DONATED\nTO THE AIR AMBULANCE & JDRF JUNIOR T1 DIABETES
URL:https://www.marketdrayton.org.uk/event/soul-saves-lives-market-drayton-british-legion/
LOCATION:The British Legion Club\, Church St.\, Market Drayton\, Shropshire\, TF9 1AF
CATEGORIES:Live Music
ATTACH;FMTTYPE=image/jpeg:https://www.marketdrayton.org.uk/wp-content/uploads/2021/07/Copy-of-Copy-of-Copy-of-Copy-of-The-town-house-1.jpg
END:VEVENT
BEGIN:VEVENT
DTSTART;TZID=Europe/Paris:20210910T193000
DTEND;TZID=Europe/Paris:20210910T220000
DTSTAMP:20260419T170823
CREATED:20210718T164552Z
LAST-MODIFIED:20210718T164745Z
UID:1659-1631302200-1631311200@www.marketdrayton.org.uk
SUMMARY:A Vision Of Elvis
DESCRIPTION:The smash hit show A Vision Of Elvis starring Rob Kingsley winner of The National Tribute Music Awards ” Official Elvis Show ” and ” No.1 Male Tribute Artist ” is internationally renowned as the best Elvis Presley tribute concert\, touring the World today. \nLong time Elvis friend\, photographer and tour manager\, Ed Bonja\, was profoundly affected by Rob’s performance\, remarking “He sings like Elvis\, but most importantly\, he seems to capture the very soul of Elvis – his charisma\, his gestures – hell he even walks like Elvis” \nA Vision of Elvis has performed to thousands of fans in major theatres\, festivals and arenas worldwide and made history by being the first Elvis tribute artist to perform at the New Wembley Stadium to over 50\,000 people. \nIn this sensational new show you will experience an epic audio-visual journey through time like you’ve never seen before. Featuring the classic hits Stuck on You from the Timex Show\, GI Blues from the Movie Years\, Blue Suede Shoes from the ‘1968 Comeback Special’ with the finale being the electrifying Concert Years which includes Suspicious Minds\, American Trilogy and many\, many more. \nAll costumes\, instruments and stage settings are authentically recreated to give the feel and energy of a live Elvis concert\, which promises to be the ultimate experience for any Elvis fan. Rob’s contact with the audience is immediate – As soon as the show begin\, surrounded by his musicians\, backing vocalists and production team they take you on an emotional roller coaster\, engaging audiences with a true Elvis concert experience. \n\nWith a string of SOLD OUT UK Dates A Vision of Elvis – IS the ONLY Elvis show to see.\nVoted No1 Elvis Presley Tribute Artist & Best Overall Male Artist at the National Music Tribute Awards.\nGrand European Champion at Europe’s Largest Elvis Competition.\nVoted Best Vegas Elvis at Europe’s Largest Competition.\n\n\nQUOTES\n“ The King is Back ” Rolling Stones Magazine\n“ Like a one to one with Elvis” President of the Official Elvis Presley Fan Club Finland\n” Elvis was in the building ” President of the Official Elvis Presley Fan Club India\n“ Entertaining\, Enthralling and Electric ” www.thelatest.co.uk\n“ Simply Superb ” North West End\n” The best just got better ” Lorna Weekes Theatre Reviewer
URL:https://www.marketdrayton.org.uk/event/a-vision-of-elvis/
LOCATION:The Festival Drayton Centre\, Frogmore Road\, Market Drayton\, Shropshire\, TF9 3AX
CATEGORIES:Leisure and Entertainment,Live Music
ATTACH;FMTTYPE=image/jpeg:https://www.marketdrayton.org.uk/wp-content/uploads/2021/07/Elvis-1024.jpg
END:VEVENT
BEGIN:VEVENT
DTSTART;TZID=Europe/Paris:20210904T200000
DTEND;TZID=Europe/Paris:20210904T223000
DTSTAMP:20260419T170823
CREATED:20210718T162444Z
LAST-MODIFIED:20210718T162444Z
UID:1656-1630785600-1630794600@www.marketdrayton.org.uk
SUMMARY:ELO Again
DESCRIPTION:ELO AGAIN are back with their stunning ‘Re-Discovery Tour’ celebrating the truly universal music of Jeff Lynne and the Electric Light Orchestra. Now in their 8th year ELO AGAIN really give you a dramatic taste of what a legendary ELO concert would have been like back in their heyday\, the whole experience is professionally re-enacted with a great sound reproduction\, light show and visual effects. \nThey perform all the big hits – MR BLUE SKY\, LIVIN’ THING\, SWEET TALKIN’ WOMAN\, SHINE A LITTLE LOVE\, CONFUSION\, LAST TRAIN TO LONDON\, ROLL OVER BEETHOVEN\, WILD WEST HERO\, DON’T BRING ME DOWN\, THE DIARY OF HORACE WIMP\, TELEPHONE LINE\, TURN TO STONE plus many more. \nAs the UK’s No.1 tribute show\, ELO AGAIN provide you with the spectacular live effect of ELO’s famous orchestrations\, soaring strings and vocals. They certainly know how to entertain too\, as the hits just keep on coming. Their version of MR BLUE SKY is breathtaking\, full of passion and fervour; the whole auditorium will be on its feet. \nCome along and relive the age of Glam Rock as ELO AGAIN pay tribute to the beautifully crafted songs of Jeff Lynne. You will revel in ELO’s unique symphonic rock style and hear some of the most unforgettable classic rock and pop songs of our generation. \nThe timeless MR BLUE SKY returns\, so Roll Over Beethoven – Rock ‘n Roll Is King.
URL:https://www.marketdrayton.org.uk/event/elo-again/
LOCATION:The Festival Drayton Centre\, Frogmore Road\, Market Drayton\, Shropshire\, TF9 3AX
CATEGORIES:Family Occasions,Live Music
ATTACH;FMTTYPE=image/jpeg:https://www.marketdrayton.org.uk/wp-content/uploads/2021/07/elo-again-1024.jpg
END:VEVENT
BEGIN:VEVENT
DTSTART;TZID=Europe/Paris:20210829T150000
DTEND;TZID=Europe/Paris:20210829T230000
DTSTAMP:20260419T170823
CREATED:20210715T180322Z
LAST-MODIFIED:20210715T181805Z
UID:1549-1630249200-1630278000@www.marketdrayton.org.uk
SUMMARY:Bank Holiday Music at Joules Brewery
DESCRIPTION:As part of a full weekend programme of live music. Heidi Browne band will be playing on the Sunday making a long overdue return to Shropshire!
URL:https://www.marketdrayton.org.uk/event/bank-holiday-music-at-joules-brewery/
LOCATION:The Red Lion Inn\, Great Hales Street\, Market Drayton\, Shropshire\, TF9 1JP
CATEGORIES:Leisure and Entertainment,Live Music
ATTACH;FMTTYPE=image/jpeg:https://www.marketdrayton.org.uk/wp-content/uploads/2021/07/Heidi-29th-August.jpg
END:VEVENT
BEGIN:VEVENT
DTSTART;TZID=Europe/Paris:20210822T170000
DTEND;TZID=Europe/Paris:20210822T230000
DTSTAMP:20260419T170823
CREATED:20210718T103347Z
LAST-MODIFIED:20210718T103610Z
UID:1592-1629651600-1629673200@www.marketdrayton.org.uk
SUMMARY:S4TW -DUO- Live @ The Red Lion Inn
DESCRIPTION:We can’t wait for this one\, we were all booked in\, in march awaiting less restrictions but it wasn’t the case so now S4TW are back…\nYou may also like the following events from S4TW: \n\nNext Saturday\, 24th July\, 08:00 pm\, Something 4 the weekend -DUO- @ The Lamb Inn in Telford\nThis month\, 31st July\, 08:30 pm\, Something 4 The Weekend Live @ The Malthouse Ironbridge in Telford\nNext month\, 6th August\, 08:00 pm\, S4TW Live @ The Craft & kitchen in Welshampton
URL:https://www.marketdrayton.org.uk/event/s4tw-duo-live-the-red-lion-inn/
LOCATION:The Red Lion Inn\, Great Hales Street\, Market Drayton\, Shropshire\, TF9 1JP
CATEGORIES:Leisure and Entertainment,Live Music
ATTACH;FMTTYPE=image/jpeg:https://www.marketdrayton.org.uk/wp-content/uploads/2021/07/S4TW.jpg
END:VEVENT
BEGIN:VEVENT
DTSTART;TZID=Europe/Paris:20210815T170000
DTEND;TZID=Europe/Paris:20210815T190000
DTSTAMP:20260419T170823
CREATED:20210714T140313Z
LAST-MODIFIED:20210714T141512Z
UID:1540-1629046800-1629054000@www.marketdrayton.org.uk
SUMMARY:Willow Station
DESCRIPTION:If you love great harmonies then you are going to just love Willow Station with their wonderful take on the Gospel type music of the deep South. \nThe Red Lion – Market Drayton \n• Live music from Willow Station\n• 5 – 7pm\n• Free entry
URL:https://www.marketdrayton.org.uk/event/willow-station/
LOCATION:The Red Lion Inn\, Great Hales Street\, Market Drayton\, Shropshire\, TF9 1JP
CATEGORIES:Live Music
ATTACH;FMTTYPE=image/jpeg:https://www.marketdrayton.org.uk/wp-content/uploads/2021/07/willow-promo.jpg
END:VEVENT
BEGIN:VEVENT
DTSTART;TZID=Europe/Paris:20210814T210000
DTEND;TZID=Europe/Paris:20210814T230000
DTSTAMP:20260419T170823
CREATED:20210717T230846Z
LAST-MODIFIED:20210717T230846Z
UID:1571-1628974800-1628982000@www.marketdrayton.org.uk
SUMMARY:Touch Too Much
DESCRIPTION:We have the thunderous return of Touch Too Much playing all ya favourites from AC/DC and other classic rock!
URL:https://www.marketdrayton.org.uk/event/touch-too-much/
LOCATION:The Loggerheads\, 1 Eccleshall Road\, Market Drayton\, Staffordshire\, TF9 4NX
CATEGORIES:Leisure and Entertainment,Live Music
ATTACH;FMTTYPE=image/jpeg:https://www.marketdrayton.org.uk/wp-content/uploads/2021/07/touch-to-much-august.jpg
END:VEVENT
BEGIN:VEVENT
DTSTART;VALUE=DATE:20210101
DTEND;VALUE=DATE:20230101
DTSTAMP:20260419T170823
CREATED:20210630T230530Z
LAST-MODIFIED:20210718T161139Z
UID:1627-1609459200-1672531199@www.marketdrayton.org.uk
SUMMARY:The Rock and Bowl Festival
DESCRIPTION:We have humble beginnings\, starting as a beer garden music event almost a decade ago in 2009\, to the full production family Rock and Bowl Festival that we are today. \nOver the years\, we’ve had some amazing headline our main stage including Dr and the Medics\, Dan Owen\, Rews\, Think Floyd\, Noasis… the list goes on. We pride ourselves too on spotting up and coming talent\, both local and further afield. \n​Each year\, we set to put on an amazing event for families and music lovers alike and to raise money in support of local and national charities
URL:https://www.marketdrayton.org.uk/event/the-rock-and-bowl-festival/
LOCATION:Market Drayton Picnic Area\, Newport Road\, Market Drayton\, Shropshire\, TF9 1JT
CATEGORIES:Live Music
ATTACH;FMTTYPE=image/jpeg:https://www.marketdrayton.org.uk/wp-content/uploads/2021/07/Rock-Bowl.jpg
END:VEVENT
END:VCALENDAR