BEGIN:VCALENDAR
VERSION:2.0
PRODID:-//Market Drayton - Eat, Drink, Shop &amp; Explore - ECPv6.15.20//NONSGML v1.0//EN
CALSCALE:GREGORIAN
METHOD:PUBLISH
X-ORIGINAL-URL:https://www.marketdrayton.org.uk
X-WR-CALDESC:Events for Market Drayton - Eat, Drink, Shop &amp; Explore
REFRESH-INTERVAL;VALUE=DURATION:PT1H
X-Robots-Tag:noindex
X-PUBLISHED-TTL:PT1H
BEGIN:VTIMEZONE
TZID:Europe/Paris
BEGIN:DAYLIGHT
TZOFFSETFROM:+0100
TZOFFSETTO:+0200
TZNAME:CEST
DTSTART:20190331T010000
END:DAYLIGHT
BEGIN:STANDARD
TZOFFSETFROM:+0200
TZOFFSETTO:+0100
TZNAME:CET
DTSTART:20191027T010000
END:STANDARD
BEGIN:DAYLIGHT
TZOFFSETFROM:+0100
TZOFFSETTO:+0200
TZNAME:CEST
DTSTART:20200329T010000
END:DAYLIGHT
BEGIN:STANDARD
TZOFFSETFROM:+0200
TZOFFSETTO:+0100
TZNAME:CET
DTSTART:20201025T010000
END:STANDARD
BEGIN:DAYLIGHT
TZOFFSETFROM:+0100
TZOFFSETTO:+0200
TZNAME:CEST
DTSTART:20210328T010000
END:DAYLIGHT
BEGIN:STANDARD
TZOFFSETFROM:+0200
TZOFFSETTO:+0100
TZNAME:CET
DTSTART:20211031T010000
END:STANDARD
BEGIN:DAYLIGHT
TZOFFSETFROM:+0100
TZOFFSETTO:+0200
TZNAME:CEST
DTSTART:20220327T010000
END:DAYLIGHT
BEGIN:STANDARD
TZOFFSETFROM:+0200
TZOFFSETTO:+0100
TZNAME:CET
DTSTART:20221030T010000
END:STANDARD
END:VTIMEZONE
BEGIN:VEVENT
DTSTART;VALUE=DATE:20210529
DTEND;VALUE=DATE:20210601
DTSTAMP:20260419T170726
CREATED:20210529T123858Z
LAST-MODIFIED:20210601T124356Z
UID:810-1622246400-1622505599@www.marketdrayton.org.uk
SUMMARY:Floating Markets — Shropshire Union Canal
DESCRIPTION:Market Drayton floating markets has the direct backing of the Canal & River Trust & Shropshire Council for this two-day market. \nThe Roving Canal Traders Association did announce that it would hold a floating market on Market Drayton’s canal\, between Betton Bridge and Lloyds Bridge\, during the Spring Bank Holiday\, from May 29 to 31. \nWith lots of trading boats — interesting crafts present some amazing talent. Everything is different\, unique and artisan…  There is always a great range of items available for you to purchase on the day. The canal traders are always extremely welcoming! \nPlease do not hesitate to get in touch with the Roving Canal Traders Asscoiation from their website. \nThe Shropshire Union Canal flows alongside a remarkably leisurely walk (5km) through Market Drayton. The locks\, embankments and cuttings on this historic canal were designed by Thomas Telford. \n 
URL:https://www.marketdrayton.org.uk/event/floating-markets-shropshire-union-canal/
LOCATION:Shropshire Union Canal\, Shropshire Union Canal\, Market Drayton\, Shropshire\, TF9 2AH
CATEGORIES:Markets
ATTACH;FMTTYPE=image/jpeg:https://www.marketdrayton.org.uk/wp-content/uploads/2021/06/Floating-Markets-2.jpg
END:VEVENT
BEGIN:VEVENT
DTSTART;VALUE=DATE:20200923
DTEND;VALUE=DATE:20210926
DTSTAMP:20260419T170726
CREATED:20210721T112712Z
LAST-MODIFIED:20220306T201346Z
UID:1736-1600819200-1632614399@www.marketdrayton.org.uk
SUMMARY:Ginger & Spice Festival\, 25th Sept. 2021
DESCRIPTION:The Ginger & Spice Festival is an annual celebration which takes place in and around Market Drayton during British Food Fortnight.  The festival explores the town’s culinary heritage & social history via an eclectic mix of fringe events. \nBut we’re not just a festival! We also have an online store – The Spice Larder\, featuring spice based food\, drinks\, goods and gifts made by British artisan producers. We also have a Podcast broadcasting chefs\, producers & spice experts. \nThe Festival – Ginger and Spice Festival
URL:https://www.marketdrayton.org.uk/event/ginger-spice-festival-25th-sept-2021/
LOCATION:Market Drayton Town Centre\, 18 Frogmore Road\, Market Drayton\, Shropshire\, TF9 3AX
CATEGORIES:Markets
ATTACH;FMTTYPE=image/jpeg:https://www.marketdrayton.org.uk/wp-content/uploads/2021/06/Copy-of-Copy-of-The-town-house-2.jpg
END:VEVENT
END:VCALENDAR