BEGIN:VCALENDAR
VERSION:2.0
PRODID:-//Market Drayton - Eat, Drink, Shop &amp; Explore - ECPv6.15.20//NONSGML v1.0//EN
CALSCALE:GREGORIAN
METHOD:PUBLISH
X-WR-CALNAME:Market Drayton - Eat, Drink, Shop &amp; Explore
X-ORIGINAL-URL:https://www.marketdrayton.org.uk
X-WR-CALDESC:Events for Market Drayton - Eat, Drink, Shop &amp; Explore
REFRESH-INTERVAL;VALUE=DURATION:PT1H
X-Robots-Tag:noindex
X-PUBLISHED-TTL:PT1H
BEGIN:VTIMEZONE
TZID:Europe/Paris
BEGIN:DAYLIGHT
TZOFFSETFROM:+0100
TZOFFSETTO:+0200
TZNAME:CEST
DTSTART:20200329T010000
END:DAYLIGHT
BEGIN:STANDARD
TZOFFSETFROM:+0200
TZOFFSETTO:+0100
TZNAME:CET
DTSTART:20201025T010000
END:STANDARD
BEGIN:DAYLIGHT
TZOFFSETFROM:+0100
TZOFFSETTO:+0200
TZNAME:CEST
DTSTART:20210328T010000
END:DAYLIGHT
BEGIN:STANDARD
TZOFFSETFROM:+0200
TZOFFSETTO:+0100
TZNAME:CET
DTSTART:20211031T010000
END:STANDARD
BEGIN:DAYLIGHT
TZOFFSETFROM:+0100
TZOFFSETTO:+0200
TZNAME:CEST
DTSTART:20220327T010000
END:DAYLIGHT
BEGIN:STANDARD
TZOFFSETFROM:+0200
TZOFFSETTO:+0100
TZNAME:CET
DTSTART:20221030T010000
END:STANDARD
BEGIN:DAYLIGHT
TZOFFSETFROM:+0100
TZOFFSETTO:+0200
TZNAME:CEST
DTSTART:20230326T010000
END:DAYLIGHT
BEGIN:STANDARD
TZOFFSETFROM:+0200
TZOFFSETTO:+0100
TZNAME:CET
DTSTART:20231029T010000
END:STANDARD
END:VTIMEZONE
BEGIN:VEVENT
DTSTART;TZID=Europe/Paris:20220326T193000
DTEND;TZID=Europe/Paris:20220326T235000
DTSTAMP:20260419T154238
CREATED:20220306T204020Z
LAST-MODIFIED:20220306T204020Z
UID:2480-1648323000-1648338600@www.marketdrayton.org.uk
SUMMARY:Dom Joly's Holiday Snaps
DESCRIPTION:Dom Joly is best known as the creator of Trigger Happy TV. And now the writer and broadcaster is undertaking his first UK tour since 2011\, giving fans a rare opportunity to see him live. \nDom will be talking about his exploits as a serial globe-trotting and seeker of dangerous travel spots. From North Korea though the Congo and Syria to Chernobyl\, he’s visited some of the most unusual places on the planet. Joly famously attended school with Osama Bin Laden and armed with a trusty Powerpoint\, fans can expect his holiday snaps to provide comedy and a sense of danger.
URL:https://www.marketdrayton.org.uk/event/dom-jolys-holiday-snaps/
LOCATION:The Festival Drayton Centre\, Frogmore Road\, Market Drayton\, Shropshire\, TF9 3AX
CATEGORIES:Seminar, Conference, Meetings
ATTACH;FMTTYPE=image/jpeg:https://www.marketdrayton.org.uk/wp-content/uploads/2022/03/Dom-Joly-Market-Drayton.jpg
END:VEVENT
BEGIN:VEVENT
DTSTART;TZID=Europe/Paris:20211029T100000
DTEND;TZID=Europe/Paris:20211029T140000
DTSTAMP:20260419T154238
CREATED:20210930T103820Z
LAST-MODIFIED:20210930T103820Z
UID:2106-1635501600-1635516000@www.marketdrayton.org.uk
SUMMARY:‘GO GREEN’ FESTIVAL EVENT
DESCRIPTION:This is our programme for the ‘Go Green’ festival event to be hosted by the Festival Drayton Centre on 29th October\, 2021. \nTHE PROGRAMME \n09.00 Auditorium opens for Exhibitors to set up one hour before opening to visitors. WiFi is available. Please ask at Foyer Reception for access code. Sufficient tables (6 ft x 3 ft) will be available – so exhibitors must not bring their own. Please ensure any promotional stands etc are not over-wide as space is tight. \n09.30  Café opens. \n09.45  Expect first visitors to ‘gate-crash’ \n10.00  Open to Visitors. \n10.15  Housekeeping announcements.  Formal opening by Town & County Councillor Ian Nellins and\, if able\, the Leader of Shropshire Council\, Councillor Lezley Picton. \n14.00  Café closes.  Festival closes to the public and Exhibitors can start breaking down. \n14.30-15.30  In an adjacent suite\, yet to be confirmed\, MDCE will launch its local campaign to promote Shropshire Climate Action Partnership’s (SCAP) Zero Carbon Shropshire’s Plan (ZCSP) to achieve carbon neutrality by 2030.  This Plan identifies a series of recommended actions suitable for everyone – from individuals and households to businesses and local government.  The COP26 UN Climate Change Conference to be held in Glasgow between 1-12 November will provide an impetus to local actions.  It is anticipated that two or three speakers will give a talk on major Environment and Climate Change concerns.  One person who has agreed to speak is Dr Roy Alexander on behalf of the Ashton Hayes\, Cheshire\, Carbon Neutral Project that has achieved remarkable success since launch in 2006.  Members of the Project now wish to provide their expertise to guide similar projects.
URL:https://www.marketdrayton.org.uk/event/go-green-festival-event/
LOCATION:The Festival Drayton Centre\, Frogmore Road\, Market Drayton\, Shropshire\, TF9 3AX
CATEGORIES:Seminar, Conference, Meetings,Workshops, Training Resources
ATTACH;FMTTYPE=image/jpeg:https://www.marketdrayton.org.uk/wp-content/uploads/2021/07/go-green-feature.jpg
END:VEVENT
BEGIN:VEVENT
DTSTART;TZID=Europe/Paris:20210829T100000
DTEND;TZID=Europe/Paris:20210829T120000
DTSTAMP:20260419T154238
CREATED:20210718T124041Z
LAST-MODIFIED:20210718T124457Z
UID:1618-1630231200-1630238400@www.marketdrayton.org.uk
SUMMARY:Benefice Service
DESCRIPTION:Please check the Church Magazine or Noticeboard for the establishment hosting Benefice Service venue.
URL:https://www.marketdrayton.org.uk/event/benefice-service/
LOCATION:Childs Ercall\, Childs Ercall S.Michael\, Child's Ercall\, Market Drayton\, Shropshire\, TF9 2BZ
CATEGORIES:Seminar, Conference, Meetings,Totally Locally
ATTACH;FMTTYPE=image/jpeg:https://www.marketdrayton.org.uk/wp-content/uploads/2021/07/Childs-Ercall.jpg
END:VEVENT
BEGIN:VEVENT
DTSTART;TZID=Europe/Paris:20210817T090000
DTEND;TZID=Europe/Paris:20210817T160000
DTSTAMP:20260419T154238
CREATED:20210718T090257Z
LAST-MODIFIED:20210718T090257Z
UID:1576-1629190800-1629216000@www.marketdrayton.org.uk
SUMMARY:Emergency First Aid at Work & tea & coffee at Fordhall Farm\, Market Drayton
DESCRIPTION:1 day Emergency First Aid at Work training course. Learn skills to save lives. Suitable for a work-based qualification. HSE compliant. \nA one day Emergency First Aid at Work course\, held at the picturesque Fordhall Organic Farm\, Market Drayton. Individual price includes tea and coffee. PDF certificates and hard copy training books are issued and included in the price. \nAn organic lunch from Arthur’s Kitchen is an optional extra\, please see Add-Ons to reserve yours.
URL:https://www.marketdrayton.org.uk/event/emergency-first-aid-at-work-tea-coffee-at-fordhall-farm-market-drayton/
LOCATION:Fordhall Organic Farm\, Tern Hill Road\, Market Drayton\, Shropshire\, TF9 3PS
CATEGORIES:Seminar, Conference, Meetings,Workshops, Training Resources
ATTACH;FMTTYPE=image/jpeg:https://www.marketdrayton.org.uk/wp-content/uploads/2021/07/First-Training-GB-1024.jpg
END:VEVENT
BEGIN:VEVENT
DTSTART;TZID=Europe/Paris:20210804T130000
DTEND;TZID=Europe/Paris:20210804T163000
DTSTAMP:20260419T154238
CREATED:20210718T132408Z
LAST-MODIFIED:20210718T132408Z
UID:1623-1628082000-1628094600@www.marketdrayton.org.uk
SUMMARY:MMBEN Summer Site Visit
DESCRIPTION:This year the MMBEN return and are kindly funded by “Invest in Shropshire” where we will be visiting Fordhall Farm a community-owned\, organic\, working farm in rural Shropshire just outside Market Drayton. \nThe visit will give delegates opportunity to experience first hand operations of an organic farm as it navigates its way out of the Covid-pandemic and into the new normal. \n1:30 – Welcome\nSplit into two groups\n> 1 hour – farm tour\n> 1 hour – activity in greenwood shelter \n2.30pm – Drinks and cake in bunkhouse with talk on the bunkhouse sustainable construction \n3pm groups swap\n> 1 hour – farm tour\n> 1 hour – activity in greenwood shelter \n4.15pm – Wrap up and questions \nPlease note the aim is to be on site at Fordhall with all Covid-safety precautions in place.
URL:https://www.marketdrayton.org.uk/event/mmben-summer-site-visit/
LOCATION:Fordhall Organic Farm\, Tern Hill Road\, Market Drayton\, Shropshire\, TF9 3PS
CATEGORIES:Markets,Seminar, Conference, Meetings
ATTACH;FMTTYPE=image/jpeg:https://www.marketdrayton.org.uk/wp-content/uploads/2021/07/fordhall-banner.jpg
END:VEVENT
BEGIN:VEVENT
DTSTART;TZID=Europe/Paris:20210619T103000
DTEND;TZID=Europe/Paris:20210619T123000
DTSTAMP:20260419T154238
CREATED:20210601T180424Z
LAST-MODIFIED:20210602T101147Z
UID:852-1624098600-1624105800@www.marketdrayton.org.uk
SUMMARY:Fordhall Organic Farm - Virtual AGM
DESCRIPTION:Our members are formally invited to attend our AGM on Saturday 19th June 2021. Please note this replaces the earlier advertised date of 8th May 2021. Due to concerns over the ongoing pandemic the event will this year be held virtually over Zoom from 10.00am until 12.30pm. \nPostal and email invites will be sent in May and we look forward to updating you all on our progress in 2020\, host Q&A sessions and plan for our future together. \n‘Together we can nurture a better future\, one which works to restore hearts\, minds and soil’ \nIf you have any queries regarding this event then please contact the office on 01630 638696 or email project@fordhallfarm.com.
URL:https://www.marketdrayton.org.uk/event/fordhall-organic-farm-virtual-agm/
LOCATION:Fordhall Organic Farm\, Tern Hill Road\, Market Drayton\, Shropshire\, TF9 3PS
CATEGORIES:Seminar, Conference, Meetings
ATTACH;FMTTYPE=image/jpeg:https://www.marketdrayton.org.uk/wp-content/uploads/2021/06/Fordhall-AGM.jpg
END:VEVENT
BEGIN:VEVENT
DTSTART;VALUE=DATE:20210602
DTEND;VALUE=DATE:20220406
DTSTAMP:20260419T154238
CREATED:20210602T100245Z
LAST-MODIFIED:20210602T100633Z
UID:917-1622592000-1649203199@www.marketdrayton.org.uk
SUMMARY:The Garden Gallery
DESCRIPTION:The Festival Drayton Centre has an exciting addition to its extensive portfolio. The walls of the centre bordering the garden and patio area at the rear of the building are now adorned by twenty two superb frescoes.\nUsing imported but traditional materials the panels have provided talented local artist\, Nick Parry\, the opportunity to create a pictorial social history of Market Drayton. Local natural history\, geography\, traditions\, crafts and industries are illustrated alongside more specific historical events. \n  \n \n  \nNick has used well researched methods and styles to ensure that his stunning outdoor ‘masterpieces’ last for many years. \nTo accompany the exhibition the artist has written a book which makes an enchanting journey through bygone days. The books are available at the Centre reception desk. \nThe display is open throughout the year and may be accessed whenever the Centre is open.
URL:https://www.marketdrayton.org.uk/event/the-garden-gallery/
LOCATION:The Festival Drayton Centre\, Frogmore Road\, Market Drayton\, Shropshire\, TF9 3AX
CATEGORIES:Leisure and Entertainment,Seminar, Conference, Meetings
ATTACH;FMTTYPE=image/jpeg:https://www.marketdrayton.org.uk/wp-content/uploads/2021/06/festival-logo.jpg
END:VEVENT
END:VCALENDAR